{
 "currentVersion": 11.5,
 "cimVersion": "3.5.0",
 "serviceDescription": "A classificação do mapeamento da cobertura da terra adotada para as imagens do Ortomosaico Drone (2019) foi baseada no sistema hierárquico de três níveis proposto por PRADO (2009). Para este mapeamento foi adotada a escala de 1:5.000 utilizando a classe 3, e para atender as necessidades especificas desse mapeamento da cidade do Recife algumas classes foram adaptadas. As classe são as seguintes: Edificação Urbana / Rural, Malha Viária, Malha Ferroviária, Cultura Agrícola, Planície Alagável, Manguezal, Curso d\u2019água, Lago / Lagoa, Reservatório, Mar / Oceano, Formação Florestal Inicial (Capoeira), Formação Florestal Inicial (Herbácea), Formação Florestal Densa, Formação Florestal Aberta, Solo Exposto, Praia, Área Degradada. ",
 "mapName": "Layers",
 "description": "A classificação do mapeamento da cobertura da terra adotada para as imagens do Ortomosaico Drone (2019) foi baseada no sistema hierárquico de três níveis proposto por PRADO (2009). Para este mapeamento foi adotada a escala de 1:5.000 utilizando a classe 3, e para atender as necessidades especificas desse mapeamento da cidade do Recife algumas classes foram adaptadas. As classe são as seguintes: Edificação Urbana / Rural, Malha Viária, Malha Ferroviária, Cultura Agrícola, Planície Alagável, Manguezal, Curso d\u2019água, Lago / Lagoa, Reservatório, Mar / Oceano, Formação Florestal Inicial (Capoeira), Formação Florestal Inicial (Herbácea), Formação Florestal Densa, Formação Florestal Aberta, Solo Exposto, Praia, Área Degradada. ",
 "copyrightText": "Prefeitura da Cidade do Recife, Secretaria de Mobilidade e Controle Urbano \u2013 SEMOC, Secretaria Executiva de Licenciamento e Controle Ambiental \u2013 SELCA, Unidade de Informação e Geoprocessamento - UIG",
 "supportsDynamicLayers": false,
 "layers": [
  {
   "id": 0,
   "name": "Cobertura da Terra 2019",
   "parentLayerId": -1,
   "defaultVisibility": true,
   "subLayerIds": null,
   "minScale": 0,
   "maxScale": 0,
   "type": "Feature Layer",
   "geometryType": "esriGeometryPolygon",
   "supportsDynamicLegends": true
  }
 ],
 "tables": [],
 "spatialReference": {
  "wkid": 31985,
  "latestWkid": 31985,
  "xyTolerance": 0.001,
  "zTolerance": 0.001,
  "mTolerance": 0.001,
  "falseX": -5120900,
  "falseY": 1900,
  "xyUnits": 4.504455473910538E8,
  "falseZ": -100000,
  "zUnits": 10000,
  "falseM": -100000,
  "mUnits": 10000
 },
 "singleFusedMapCache": true,
 "tileInfo": {
  "rows": 256,
  "cols": 256,
  "dpi": 96,
  "format": "PNG",
  "compressionQuality": 0,
  "origin": {
   "x": -5120900,
   "y": 19998100
  },
  "spatialReference": {
   "wkid": 31985,
   "latestWkid": 31985,
   "xyTolerance": 0.001,
   "zTolerance": 0.001,
   "mTolerance": 0.001,
   "falseX": -5120900,
   "falseY": 1900,
   "xyUnits": 4.504455473910538E8,
   "falseZ": -100000,
   "zUnits": 10000,
   "falseM": -100000,
   "mUnits": 10000
  },
  "lods": [
   {
    "level": 0,
    "resolution": 66.1459656252646,
    "scale": 250000
   },
   {
    "level": 1,
    "resolution": 33.0729828126323,
    "scale": 125000
   },
   {
    "level": 2,
    "resolution": 16.933367200067735,
    "scale": 64000
   },
   {
    "level": 3,
    "resolution": 8.466683600033868,
    "scale": 32000
   },
   {
    "level": 4,
    "resolution": 4.233341800016934,
    "scale": 16000
   },
   {
    "level": 5,
    "resolution": 2.116670900008467,
    "scale": 8000
   },
   {
    "level": 6,
    "resolution": 1.0583354500042335,
    "scale": 4000
   },
   {
    "level": 7,
    "resolution": 0.5291677250021167,
    "scale": 2000
   },
   {
    "level": 8,
    "resolution": 0.26458386250105836,
    "scale": 1000
   }
  ]
 },
 "storageInfo": {
  "storageFormat": "esriMapCacheStorageModeCompactV2",
  "packetSize": 128
 },
 "initialExtent": {
  "xmin": 257727.00550794287,
  "ymin": 9093189.252336444,
  "xmax": 315066.81859205675,
  "ymax": 9128810.747663548,
  "spatialReference": {
   "wkid": 31985,
   "latestWkid": 31985,
   "xyTolerance": 0.001,
   "zTolerance": 0.001,
   "mTolerance": 0.001,
   "falseX": -5120900,
   "falseY": 1900,
   "xyUnits": 4.504455473910538E8,
   "falseZ": -100000,
   "zUnits": 10000,
   "falseM": -100000,
   "mUnits": 10000
  }
 },
 "fullExtent": {
  "xmin": 277499.9996999996,
  "ymin": 9098500,
  "xmax": 295293.8244000003,
  "ymax": 9123500,
  "spatialReference": {
   "wkid": 31985,
   "latestWkid": 31985,
   "xyTolerance": 0.001,
   "zTolerance": 0.001,
   "mTolerance": 0.001,
   "falseX": -5120900,
   "falseY": 1900,
   "xyUnits": 4.504455473910538E8,
   "falseZ": -100000,
   "zUnits": 10000,
   "falseM": -100000,
   "mUnits": 10000
  }
 },
 "datesInUnknownTimezone": false,
 "minScale": 125000,
 "maxScale": 4000,
 "units": "esriMeters",
 "supportedImageFormatTypes": "PNG32,PNG24,PNG,JPG,DIB,TIFF,EMF,PS,PDF,GIF,SVG,SVGZ,BMP",
 "documentInfo": {
  "Title": "MA_CoberturaDaTerra2019",
  "Author": "",
  "Comments": "",
  "Subject": "",
  "Category": "",
  "Version": "3.5.0",
  "AntialiasingMode": "None",
  "TextAntialiasingMode": "Force",
  "Keywords": "Mapeamento,Cobertura da terra,2019"
 },
 "supportsQueryDomains": true,
 "capabilities": "Map,Query,Data",
 "supportedQueryFormats": "JSON, geoJSON, PBF",
 "exportTilesAllowed": false,
 "referenceScale": 0.0,
 "supportsDatumTransformation": true,
 "floorAwareMapProperties": {
  "defaultFloorFilterSettings": {
   "isEnabled": false
  }
 },
 "archivingInfo": {
  "supportsHistoricMoment": false
 },
 "supportsClipping": true,
 "supportsSpatialFilter": true,
 "supportsTimeRelation": true,
 "supportsQueryDataElements": true,
 "mapUnits": {
  "uwkid": 9001
 },
 "maxSelectionCount": 2000,
 "maxRecordCount": 99999,
 "maxImageHeight": 4096,
 "maxImageWidth": 4096,
 "supportedExtensions": "",
 "resampling": false,
 "serviceItemId": "7cb1757a2c4e477093e66de23e330d2e"
}
