{
 "currentVersion": 11.5,
 "cimVersion": "3.5.0",
 "serviceDescription": "Plano Diretor 2020",
 "mapName": "Layers",
 "description": "Plano Diretor 2020",
 "copyrightText": "PCR/SMAS/GGMC",
 "supportsDynamicLayers": false,
 "layers": [
  {
   "id": 0,
   "name": "Setor de Sustentabilidade Ambiental 2 (SSA2)",
   "parentLayerId": -1,
   "defaultVisibility": true,
   "subLayerIds": null,
   "minScale": 0,
   "maxScale": 0,
   "type": "Feature Layer",
   "geometryType": "esriGeometryPolygon",
   "supportsDynamicLegends": true
  },
  {
   "id": 1,
   "name": "Imóvel Especial de Preservação (IEP)",
   "parentLayerId": -1,
   "defaultVisibility": true,
   "subLayerIds": null,
   "minScale": 0,
   "maxScale": 0,
   "type": "Feature Layer",
   "geometryType": "esriGeometryPolygon",
   "supportsDynamicLegends": true
  },
  {
   "id": 2,
   "name": "Zona Especial de Centralidades (ZEC)",
   "parentLayerId": -1,
   "defaultVisibility": true,
   "subLayerIds": null,
   "minScale": 0,
   "maxScale": 0,
   "type": "Feature Layer",
   "geometryType": "esriGeometryPolygon",
   "supportsDynamicLegends": true
  },
  {
   "id": 3,
   "name": "Zona Especial de Interesse Social (ZEIS)",
   "parentLayerId": -1,
   "defaultVisibility": true,
   "subLayerIds": null,
   "minScale": 0,
   "maxScale": 0,
   "type": "Feature Layer",
   "geometryType": "esriGeometryPolygon",
   "supportsDynamicLegends": true
  },
  {
   "id": 4,
   "name": "Zona Especial de Patrimônio Histórico-Cultural (ZEPH)",
   "parentLayerId": -1,
   "defaultVisibility": true,
   "subLayerIds": null,
   "minScale": 0,
   "maxScale": 0,
   "type": "Feature Layer",
   "geometryType": "esriGeometryPolygon",
   "supportsDynamicLegends": true
  },
  {
   "id": 5,
   "name": "Projetos Especiais",
   "parentLayerId": -1,
   "defaultVisibility": true,
   "subLayerIds": null,
   "minScale": 0,
   "maxScale": 0,
   "type": "Feature Layer",
   "geometryType": "esriGeometryPolygon",
   "supportsDynamicLegends": true
  },
  {
   "id": 6,
   "name": "Zoneamento",
   "parentLayerId": -1,
   "defaultVisibility": true,
   "subLayerIds": null,
   "minScale": 0,
   "maxScale": 0,
   "type": "Feature Layer",
   "geometryType": "esriGeometryPolygon",
   "supportsDynamicLegends": true
  }
 ],
 "tables": [],
 "spatialReference": {
  "wkid": 31985,
  "latestWkid": 31985,
  "xyTolerance": 0.001,
  "zTolerance": 2.0E-4,
  "mTolerance": 2.0E-4,
  "falseX": -5120900,
  "falseY": 1900,
  "xyUnits": 4.504455473910538E8,
  "falseZ": -100000,
  "zUnits": 10000,
  "falseM": -100000,
  "mUnits": 10000
 },
 "singleFusedMapCache": true,
 "tileInfo": {
  "rows": 256,
  "cols": 256,
  "dpi": 96,
  "format": "PNG",
  "compressionQuality": 0,
  "origin": {
   "x": -5120900,
   "y": 19998100
  },
  "spatialReference": {
   "wkid": 31985,
   "latestWkid": 31985,
   "xyTolerance": 0.001,
   "zTolerance": 2.0E-4,
   "mTolerance": 2.0E-4,
   "falseX": -5120900,
   "falseY": 1900,
   "xyUnits": 4.504455473910538E8,
   "falseZ": -100000,
   "zUnits": 10000,
   "falseM": -100000,
   "mUnits": 10000
  },
  "lods": [
   {
    "level": 0,
    "resolution": 33.0729828126323,
    "scale": 125000
   },
   {
    "level": 1,
    "resolution": 16.933367200067735,
    "scale": 64000
   },
   {
    "level": 2,
    "resolution": 8.466683600033868,
    "scale": 32000
   },
   {
    "level": 3,
    "resolution": 4.233341800016934,
    "scale": 16000
   },
   {
    "level": 4,
    "resolution": 2.116670900008467,
    "scale": 8000
   },
   {
    "level": 5,
    "resolution": 1.0583354500042335,
    "scale": 4000
   },
   {
    "level": 6,
    "resolution": 0.5291677250021167,
    "scale": 2000
   },
   {
    "level": 7,
    "resolution": 0.26458386250105836,
    "scale": 1000
   },
   {
    "level": 8,
    "resolution": 0.13229193125052918,
    "scale": 500
   }
  ]
 },
 "storageInfo": {
  "storageFormat": "esriMapCacheStorageModeCompactV2",
  "packetSize": 128
 },
 "initialExtent": {
  "xmin": 270891.1008726658,
  "ymin": 9098950.706346847,
  "xmax": 304449.95586916275,
  "ymax": 9122022.419156939,
  "spatialReference": {
   "wkid": 31985,
   "latestWkid": 31985,
   "xyTolerance": 0.001,
   "zTolerance": 2.0E-4,
   "mTolerance": 2.0E-4,
   "falseX": -5120900,
   "falseY": 1900,
   "xyUnits": 4.504455473910538E8,
   "falseZ": -100000,
   "zUnits": 10000,
   "falseM": -100000,
   "mUnits": 10000
  }
 },
 "fullExtent": {
  "xmin": 277543.5433,
  "ymin": 9098032.3662,
  "xmax": 295287.66330000013,
  "ymax": 9123292.9141,
  "zmin": null,
  "zmax": null,
  "mmin": null,
  "mmax": null,
  "spatialReference": {
   "wkid": 31985,
   "latestWkid": 31985,
   "xyTolerance": 0.001,
   "zTolerance": 2.0E-4,
   "mTolerance": 2.0E-4,
   "falseX": -5120900,
   "falseY": 1900,
   "xyUnits": 4.504455473910538E8,
   "falseZ": -100000,
   "zUnits": 10000,
   "falseM": -100000,
   "mUnits": 10000
  }
 },
 "datesInUnknownTimezone": false,
 "minScale": 125000,
 "maxScale": 500,
 "minLOD": 0,
 "maxLOD": 8,
 "units": "esriMeters",
 "supportedImageFormatTypes": "PNG32,PNG24,PNG,JPG,DIB,TIFF,EMF,PS,PDF,GIF,SVG,SVGZ,BMP",
 "documentInfo": {
  "Title": "MA_PlanoDiretor",
  "Author": "",
  "Comments": "",
  "Subject": "",
  "Category": "",
  "Version": "3.5.0",
  "AntialiasingMode": "None",
  "TextAntialiasingMode": "Force",
  "Keywords": "Plano Diretor 2020"
 },
 "supportsQueryDomains": true,
 "capabilities": "Map,Query,Data",
 "supportedQueryFormats": "JSON, geoJSON, PBF",
 "hasVersionedData": true,
 "exportTilesAllowed": false,
 "referenceScale": 0.0,
 "supportsDatumTransformation": true,
 "floorAwareMapProperties": {
  "defaultFloorFilterSettings": {
   "isEnabled": false
  }
 },
 "archivingInfo": {
  "supportsHistoricMoment": false
 },
 "supportsClipping": true,
 "supportsSpatialFilter": true,
 "supportsTimeRelation": true,
 "supportsQueryDataElements": true,
 "mapUnits": {
  "uwkid": 9001
 },
 "maxSelectionCount": 2000,
 "maxRecordCount": 2000,
 "maxImageHeight": 4096,
 "maxImageWidth": 4096,
 "supportedExtensions": "FeatureServer",
 "resampling": false,
 "serviceItemId": "287b77f48d554d1c8e9e7466ac6223b7"
}
