{
 "currentVersion": 11.2,
 "serviceDescription": "Hosted/GV_D_2016",
 "name": "Hosted/GV_D_2016",
 "description": "",
 "extent": {
  "xmin": 207566.61318116006,
  "ymin": 9088999.907074634,
  "xmax": 225000.0882611599,
  "ymax": 9096500.037754646,
  "spatialReference": {
   "wkid": 31985,
   "latestWkid": 31985
  }
 },
 "initialExtent": {
  "xmin": 207566.61318116006,
  "ymin": 9088999.907074634,
  "xmax": 225000.0882611599,
  "ymax": 9096500.037754646,
  "spatialReference": {
   "wkid": 31985,
   "latestWkid": 31985
  }
 },
 "fullExtent": {
  "xmin": 207566.61318116006,
  "ymin": 9088999.907074634,
  "xmax": 225000.0882611599,
  "ymax": 9096500.037754646,
  "spatialReference": {
   "wkid": 31985,
   "latestWkid": 31985
  }
 },
 "sortableFields": "",
 "bandCount": 3,
 "pixelType": "U8",
 "minValues": [
  1,
  1,
  1
 ],
 "maxValues": [
  255,
  255,
  255
 ],
 "meanValues": [
  126.47110642227,
  120.78592305512,
  110.91826081756
 ],
 "stdvValues": [
  57.097631467054,
  54.479707437033,
  56.078106444696
 ],
 "hasMultidimensions": false,
 "pixelSizeX": 0.10848999999999893,
 "pixelSizeY": 0.10849000000016758,
 "meanPixelSize": 0.10849000000008326,
 "datasetFormat": "TIFF",
 "uncompressedSize": 33326878032,
 "blockWidth": 128,
 "blockHeight": 128,
 "compressionType": "LZW",
 "bandNames": [
  "Band_1",
  "Band_2",
  "Band_3"
 ],
 "allowCopy": true,
 "allowAnalysis": true,
 "itemAccess": false,
 "inspectionCapabilities": "",
 "noDataValue": 0,
 "noDataValues": [
  0,
  0,
  0
 ],
 "minPixelSize": 0,
 "maxPixelSize": 0,
 "copyrightText": "",
 "serviceDataType": "esriImageServiceDataTypeRGB",
 "serviceSourceType": "esriImageServiceSourceTypeDataset",
 "objectIdField": "",
 "fields": [],
 "capabilities": "Image, Metadata, Mensuration",
 "defaultMosaicMethod": "Center",
 "allowedMosaicMethods": "",
 "sortField": "",
 "sortValue": null,
 "sortAscending": true,
 "mosaicOperator": "First",
 "defaultCompressionQuality": 75,
 "defaultResamplingMethod": "Bilinear",
 "maxImageHeight": 4100,
 "maxImageWidth": 15000,
 "allowRasterFunction": true,
 "rasterFunctionInfos": [
  {
   "name": "None",
   "description": "",
   "help": ""
  }
 ],
 "rasterTypeInfos": [
  {
   "name": "Raster Dataset",
   "description": "Supports all ArcGIS Raster Datasets",
   "help": ""
  }
 ],
 "mensurationCapabilities": "Basic",
 "hasHistograms": true,
 "hasColormap": false,
 "hasRasterAttributeTable": false,
 "minScale": 0,
 "maxScale": 0,
 "exportTilesAllowed": false,
 "supportsStatistics": false,
 "supportsAdvancedQueries": false,
 "editFieldsInfo": null,
 "ownershipBasedAccessControlForRasters": null,
 "allowComputeTiePoints": false,
 "useStandardizedQueries": true,
 "advancedQueryCapabilities": {
  "useStandardizedQueries": true,
  "supportsStatistics": false,
  "supportsOrderBy": false,
  "supportsDistinct": false,
  "supportsPagination": false
 },
 "spatialReference": {
  "wkid": 31985,
  "latestWkid": 31985
 }
}
