{
 "currentVersion": 11.2,
 "serviceDescription": "Hosted/M_Gv_2",
 "name": "Hosted/M_Gv_2",
 "description": "",
 "extent": {
  "xmin": 207164.05788219866,
  "ymin": 9073258.807121407,
  "xmax": 231395.77180278307,
  "ymax": 9108633.389503792,
  "spatialReference": {
   "wkid": 31985,
   "latestWkid": 31985
  }
 },
 "initialExtent": {
  "xmin": 207164.05788219866,
  "ymin": 9073258.807121407,
  "xmax": 231395.77180278307,
  "ymax": 9108633.389503792,
  "spatialReference": {
   "wkid": 31985,
   "latestWkid": 31985
  }
 },
 "fullExtent": {
  "xmin": 207164.05788219866,
  "ymin": 9073258.807121407,
  "xmax": 231395.77180278307,
  "ymax": 9108633.389503792,
  "spatialReference": {
   "wkid": 31985,
   "latestWkid": 31985
  }
 },
 "sortableFields": "",
 "bandCount": 3,
 "pixelType": "U8",
 "minValues": [
  1,
  1,
  18
 ],
 "maxValues": [
  255,
  255,
  255
 ],
 "meanValues": [
  105.47073781108,
  113.09235227329,
  107.03325410567
 ],
 "stdvValues": [
  41.982853765065,
  35.050972786003,
  26.590127739207
 ],
 "hasMultidimensions": false,
 "pixelSizeX": 0.4999940970737953,
 "pixelSizeY": 0.4999940972775221,
 "meanPixelSize": 0.4999940971756587,
 "datasetFormat": "TIFF",
 "uncompressedSize": 10286484000,
 "blockWidth": 128,
 "blockHeight": 128,
 "compressionType": "LZW",
 "bandNames": [
  "Band_1",
  "Band_2",
  "Band_3"
 ],
 "allowCopy": true,
 "allowAnalysis": true,
 "itemAccess": false,
 "inspectionCapabilities": "",
 "noDataValue": 0,
 "noDataValues": [
  0,
  0,
  0
 ],
 "minPixelSize": 0,
 "maxPixelSize": 0,
 "copyrightText": "",
 "serviceDataType": "esriImageServiceDataTypeRGB",
 "serviceSourceType": "esriImageServiceSourceTypeDataset",
 "objectIdField": "",
 "fields": [],
 "capabilities": "Image, Metadata, Mensuration",
 "defaultMosaicMethod": "Center",
 "allowedMosaicMethods": "",
 "sortField": "",
 "sortValue": null,
 "sortAscending": true,
 "mosaicOperator": "First",
 "defaultCompressionQuality": 75,
 "defaultResamplingMethod": "Bilinear",
 "maxImageHeight": 4100,
 "maxImageWidth": 15000,
 "allowRasterFunction": true,
 "rasterFunctionInfos": [
  {
   "name": "None",
   "description": "",
   "help": ""
  }
 ],
 "rasterTypeInfos": [
  {
   "name": "Raster Dataset",
   "description": "Supports all ArcGIS Raster Datasets",
   "help": ""
  }
 ],
 "mensurationCapabilities": "Basic",
 "hasHistograms": true,
 "hasColormap": false,
 "hasRasterAttributeTable": false,
 "minScale": 0,
 "maxScale": 0,
 "exportTilesAllowed": false,
 "supportsStatistics": false,
 "supportsAdvancedQueries": false,
 "editFieldsInfo": null,
 "ownershipBasedAccessControlForRasters": null,
 "allowComputeTiePoints": false,
 "useStandardizedQueries": true,
 "advancedQueryCapabilities": {
  "useStandardizedQueries": true,
  "supportsStatistics": false,
  "supportsOrderBy": false,
  "supportsDistinct": false,
  "supportsPagination": false
 },
 "spatialReference": {
  "wkid": 31985,
  "latestWkid": 31985
 }
}
