View In:
ArcGIS JavaScript
ArcGIS Online Map Viewer
ArcGIS Earth
Service Description: Hosted/LSTL8_MSC_28072013_WPTH214_WROW65_WROW66_SN004_SN240RECRECIFE
Name: Hosted/LSTL8_MSC_28072013_WPTH214_WROW65_WROW66_SN004_SN240RECRECIFE
Description:
Single Fused Map Cache: false
Extent:
XMin: -35.01758741637672
YMin: -8.155714632992725
XMax: -34.85696864357615
YMax: -7.928800192224133
Spatial Reference: 4326
(4326)
Initial Extent:
XMin: -35.01758741637672
YMin: -8.155714632992725
XMax: -34.85696864357615
YMax: -7.928800192224133
Spatial Reference: 4326
(4326)
Full Extent:
XMin: -35.01758741637672
YMin: -8.155714632992725
XMax: -34.85696864357615
YMax: -7.928800192224133
Spatial Reference: 4326
(4326)
Pixel Size X: 2.694945852358522E-4
Pixel Size Y: 2.694945852358566E-4
Band Count: 1
Pixel Type: F64
RasterFunction Infos: {"rasterFunctionInfos": [{
"name": "None",
"description": "",
"help": ""
}]}
Mensuration Capabilities: Basic
Inspection Capabilities:
Has Histograms: false
Has Colormap: false
Has Multi Dimensions : false
Rendering Rule:
Min Scale: 0
Max Scale: 0
Copyright Text:
Service Data Type: esriImageServiceDataTypeScientific
Min Values: N/A
Max Values: N/A
Mean Values: N/A
Standard Deviation Values: N/A
Object ID Field:
Fields:
None
Default Mosaic Method: Center
Allowed Mosaic Methods:
SortField:
SortValue: null
Mosaic Operator: First
Default Compression Quality: 75
Default Resampling Method: Bilinear
Max Record Count: null
Max Image Height: 4100
Max Image Width: 15000
Max Download Image Count: null
Max Mosaic Image Count: null
Allow Raster Function: true
Allow Copy: true
Allow Analysis: true
Allow Compute TiePoints: false
Supports Statistics: false
Supports Advanced Queries: false
Use StandardizedQueries: true
Raster Type Infos:
Name: Raster Dataset
Description: Supports all ArcGIS Raster Datasets
Help:
Has Raster Attribute Table: false
Edit Fields Info: null
Ownership Based AccessControl For Rasters: null
Child Resources:
Info
Statistics
Key Properties
Legend
Raster Function Infos
Supported Operations:
Export Image
Identify
Measure
Compute Histograms
Compute Statistics Histograms
Get Samples
Compute Class Statistics
Query Boundary
Compute Pixel Location
Compute Angles
Validate
Project