View In:
ArcGIS JavaScript
ArcGIS Online Map Viewer
ArcGIS Earth
ArcMap
View Footprint In:
ArcGIS Online Map Viewer
Service Description: Serviço contendo as imagens atualizadas do painel dechuvas
Name: PainelChuvas/MD_DECEA
Description: Serviço contendo as imagens atualizadas do painel dechuvas
Single Fused Map Cache: false
Extent:
XMin: -39.3898875
YMin: -13.12223
XMax: -32.0853555
YMax: -5.932729999999999
Spatial Reference: 4326
(4326)
Initial Extent:
XMin: -39.3898875
YMin: -13.12223
XMax: -32.0853555
YMax: -5.932729999999999
Spatial Reference: 4326
(4326)
Full Extent:
XMin: -39.3898875
YMin: -13.12223
XMax: -32.0853555
YMax: -5.932729999999999
Spatial Reference: 4326
(4326)
Time Info:
Start Time Field: DATAHORA
End Time Field: DATAHORA
Time Extent:
[2024/05/14 14:58:15 UTC, 2024/05/14 16:58:14 UTC]
Time Reference:
N/A
Pixel Size X: 0.009586000000000003
Pixel Size Y: 0.009586
Band Count: 4
Pixel Type: U8
RasterFunction Infos: {"rasterFunctionInfos": [{
"name": "None",
"description": "Torne um Raster ou Conjunto de Dados Raster em um Conjunto de Dados Raster de Função.",
"help": ""
}]}
Mensuration Capabilities: Basic
Has Histograms: false
Has Colormap: false
Has Multi Dimensions : false
Rendering Rule:
Min Scale: 0
Max Scale: 0
Copyright Text:
Service Data Type: esriImageServiceDataTypeGeneric
Min Values: N/A
Max Values: N/A
Mean Values: N/A
Standard Deviation Values: N/A
Object ID Field: OBJECTID
Fields:
-
OBJECTID
(
type: esriFieldTypeOID, alias: OBJECTID
)
-
Shape
(
type: esriFieldTypeGeometry, alias: Shape
)
-
Name
(
type: esriFieldTypeString, alias: Name, length: 200
)
-
Category
(
type: esriFieldTypeInteger, alias: Category
, Coded Values:
[0: Unknown]
, [1: Primary]
, [2: Overview]
, ...6 more...
)
-
DATAHORA
(
type: esriFieldTypeDate, alias: Data Hora, length: 8
)
-
UF
(
type: esriFieldTypeString, alias: UF, length: 255
)
-
MUNICIPIO
(
type: esriFieldTypeString, alias: MUNICIPIO, length: 255
)
-
FONTE
(
type: esriFieldTypeString, alias: FONTE, length: 255
)
-
Shape_Length
(
type: esriFieldTypeDouble, alias: Shape_Length
)
-
Shape_Area
(
type: esriFieldTypeDouble, alias: Shape_Area
)
Default Mosaic Method: ByAttribute
Allowed Mosaic Methods: ByAttribute
SortField: DATAHORA
SortValue: YYYY-MM-DD hh:mm:ss
Mosaic Operator: First
Default Compression Quality: 100
Default Resampling Method: Bicubic
Max Record Count: 1000
Max Image Height: 4100
Max Image Width: 15000
Max Download Image Count: 20
Max Mosaic Image Count: 20
Allow Raster Function: true
Allow Copy: true
Allow Analysis: true
Allow Compute TiePoints: false
Supports Statistics: true
Supports Advanced Queries: true
Use StandardizedQueries: true
Raster Type Infos:
Name: Raster Dataset
Description: Supports all ArcGIS Raster Datasets
Help:
Has Raster Attribute Table: false
Edit Fields Info: null
Ownership Based AccessControl For Rasters: null
Child Resources:
Info
Statistics
Key Properties
Legend
Raster Function Infos
Supported Operations:
Export Image
Query
Identify
Measure
Compute Histograms
Compute Statistics Histograms
Get Samples
Compute Class Statistics
Query Boundary
Compute Pixel Location
Compute Angles
Validate
Project