View In:
ArcGIS JavaScript
ArcGIS Online Map Viewer
ArcGIS Earth
Service Description: pgdbesig_esi2_MD_APAC_v2
Name: pgdbesig_esi2_MD_APAC_v2
Description:
Single Fused Map Cache: false
Extent:
XMin: -37.72361571099998
YMin: -10.43015498099993
XMax: -33.17822073099995
YMax: -5.9347710109999525
Spatial Reference: 4326
(4326)
LatestVCSWkid(0)
Initial Extent:
XMin: -37.72361571099998
YMin: -10.43015498099993
XMax: -33.17822073099995
YMax: -5.9347710109999525
Spatial Reference: 4326
(4326)
LatestVCSWkid(0)
Full Extent:
XMin: -37.72361571099998
YMin: -10.43015498099993
XMax: -33.17822073099995
YMax: -5.9347710109999525
Spatial Reference: 4326
(4326)
LatestVCSWkid(0)
Pixel Size X: 4.545394980000026
Pixel Size Y: 4.495383969999978
Band Count: 4
Pixel Type: U8
RasterFunction Infos: {"rasterFunctionInfos": [{
"name": "None",
"description": "Make a Raster or Raster Dataset into a Function Raster Dataset.",
"help": ""
}]}
Mensuration Capabilities:
Inspection Capabilities:
Has Histograms: true
Has Colormap: false
Has Multi Dimensions : false
Rendering Rule:
Min Scale: 0
Max Scale: 0
Copyright Text:
Service Data Type: esriImageServiceDataTypeGeneric
Min Values: 43, 57, 200, 255
Max Values: 255, 255, 255, 255
Mean Values: 167.45337719749023, 198.7825894913324, 223.4309109869541, 255
Standard Deviation Values: 47.37855449227469, 39.123797215568295, 27.19734049187823, 0
Object ID Field: objectid
Fields:
-
objectid
(
type: esriFieldTypeOID, alias: objectid
)
-
name
(
type: esriFieldTypeString, alias: name, length: 200
)
-
category
(
type: esriFieldTypeInteger, alias: category
, Coded Values:
[0: Unknown]
, [1: Primary]
, [2: Overview]
, ...6 more...
)
-
shape
(
type: esriFieldTypeGeometry, alias: shape
)
-
datahora
(
type: esriFieldTypeDate, alias: Data Hora, length: 8
)
-
uf
(
type: esriFieldTypeString, alias: UF, length: 255
)
-
municipio
(
type: esriFieldTypeString, alias: MUNICIPIO, length: 255
)
-
fonte
(
type: esriFieldTypeString, alias: FONTE, length: 255
)
Default Mosaic Method: Northwest
Allowed Mosaic Methods: NorthWest,Center,LockRaster,ByAttribute,Nadir,Viewpoint,Seamline,None
SortField:
SortValue: null
Mosaic Operator: First
Default Compression Quality: 75
Default Resampling Method: Bilinear
Max Record Count: 1000
Max Image Height: 4100
Max Image Width: 15000
Max Download Image Count: 20
Max Mosaic Image Count: 20
Allow Raster Function: true
Allow Copy: true
Allow Analysis: true
Allow Compute TiePoints: false
Supports Statistics: true
Supports Advanced Queries: true
Use StandardizedQueries: true
Raster Type Infos:
Name: Raster Dataset
Description: Supports all ArcGIS Raster Datasets
Help:
Has Raster Attribute Table: false
Edit Fields Info: null
Ownership Based AccessControl For Rasters: null
Child Resources:
Info
Histograms
Statistics
Key Properties
Legend
Raster Function Infos
Supported Operations:
Export Image
Query
Identify
Measure
Compute Histograms
Compute Statistics Histograms
Get Samples
Compute Class Statistics
Query GPS Info
Find Images
Image to Map
Map to Image
Measure from Image
Image to Map Multiray
Query Boundary
Compute Pixel Location
Compute Angles
Validate
Project