View In:
ArcGIS JavaScript
ArcGIS Online Map Viewer
ArcGIS Earth
Service Description: pgdbesig_esi2_MD_DECEA
Name: pgdbesig_esi2_MD_DECEA
Description:
Single Fused Map Cache: false
Extent:
XMin: -39.38988749999993
YMin: -13.122229999999945
XMax: -32.08413749999994
YMax: -5.932729999999935
Spatial Reference: 4326
(4326)
LatestVCSWkid(0)
Initial Extent:
XMin: -39.38988749999993
YMin: -13.122229999999945
XMax: -32.08413749999994
YMax: -5.932729999999935
Spatial Reference: 4326
(4326)
LatestVCSWkid(0)
Full Extent:
XMin: -39.38988749999993
YMin: -13.122229999999945
XMax: -32.08413749999994
YMax: -5.932729999999935
Spatial Reference: 4326
(4326)
LatestVCSWkid(0)
Pixel Size X: 7.305749999999989
Pixel Size Y: 7.1895000000000095
Band Count: 4
Pixel Type: U8
RasterFunction Infos: {"rasterFunctionInfos": [{
"name": "None",
"description": "Make a Raster or Raster Dataset into a Function Raster Dataset.",
"help": ""
}]}
Mensuration Capabilities:
Inspection Capabilities:
Has Histograms: true
Has Colormap: false
Has Multi Dimensions : false
Rendering Rule:
Min Scale: 0
Max Scale: 0
Copyright Text:
Service Data Type: esriImageServiceDataTypeGeneric
Min Values: 7, 29, 141, 255
Max Values: 255, 254, 253, 255
Mean Values: 77.51240190759788, 157.63761537297614, 199.11709500063986, 255
Standard Deviation Values: 45.991197540236016, 62.59664618659728, 40.248905538456185, 0
Object ID Field: objectid
Fields:
-
objectid
(
type: esriFieldTypeOID, alias: OBJECTID
)
-
name
(
type: esriFieldTypeString, alias: Name, length: 200
)
-
category
(
type: esriFieldTypeInteger, alias: Category
, Coded Values:
[0: Unknown]
, [1: Primary]
, [2: Overview]
, ...6 more...
)
-
datahora
(
type: esriFieldTypeDate, alias: Data Hora, length: 8
)
-
uf
(
type: esriFieldTypeString, alias: UF, length: 255
)
-
municipio
(
type: esriFieldTypeString, alias: MUNICIPIO, length: 255
)
-
fonte
(
type: esriFieldTypeString, alias: FONTE, length: 255
)
-
shape
(
type: esriFieldTypeGeometry, alias: Shape
)
Default Mosaic Method: Northwest
Allowed Mosaic Methods: NorthWest,Center,LockRaster,ByAttribute,Nadir,Viewpoint,Seamline,None
SortField:
SortValue: null
Mosaic Operator: First
Default Compression Quality: 75
Default Resampling Method: Bilinear
Max Record Count: 1000
Max Image Height: 4100
Max Image Width: 15000
Max Download Image Count: 20
Max Mosaic Image Count: 20
Allow Raster Function: true
Allow Copy: true
Allow Analysis: true
Allow Compute TiePoints: false
Supports Statistics: true
Supports Advanced Queries: true
Use StandardizedQueries: true
Raster Type Infos:
Name: Raster Dataset
Description: Supports all ArcGIS Raster Datasets
Help:
Has Raster Attribute Table: false
Edit Fields Info: null
Ownership Based AccessControl For Rasters: null
Child Resources:
Info
Histograms
Statistics
Key Properties
Legend
Raster Function Infos
Supported Operations:
Export Image
Query
Identify
Measure
Compute Histograms
Compute Statistics Histograms
Get Samples
Compute Class Statistics
Query GPS Info
Find Images
Image to Map
Map to Image
Measure from Image
Image to Map Multiray
Query Boundary
Compute Pixel Location
Compute Angles
Validate
Project