View In:
ArcGIS JavaScript
ArcGIS Online Map Viewer
ArcGIS Earth
Service Description: Hosted/GV_D_2016
Name: Hosted/GV_D_2016
Description:
Single Fused Map Cache: false
Extent:
XMin: 207566.61318116006
YMin: 9088999.907074634
XMax: 225000.0882611599
YMax: 9096500.037754646
Spatial Reference: 31985
(31985)
Initial Extent:
XMin: 207566.61318116006
YMin: 9088999.907074634
XMax: 225000.0882611599
YMax: 9096500.037754646
Spatial Reference: 31985
(31985)
Full Extent:
XMin: 207566.61318116006
YMin: 9088999.907074634
XMax: 225000.0882611599
YMax: 9096500.037754646
Spatial Reference: 31985
(31985)
Pixel Size X: 0.10848999999999893
Pixel Size Y: 0.10849000000016758
Band Count: 3
Pixel Type: U8
RasterFunction Infos: {"rasterFunctionInfos": [{
"name": "None",
"description": "",
"help": ""
}]}
Mensuration Capabilities: Basic
Inspection Capabilities:
Has Histograms: true
Has Colormap: false
Has Multi Dimensions : false
Rendering Rule:
Min Scale: 0
Max Scale: 0
Copyright Text:
Service Data Type: esriImageServiceDataTypeRGB
Min Values: 1, 1, 1
Max Values: 255, 255, 255
Mean Values: 126.47110642227, 120.78592305512, 110.91826081756
Standard Deviation Values: 57.097631467054, 54.479707437033, 56.078106444696
Object ID Field:
Fields:
None
Default Mosaic Method: Center
Allowed Mosaic Methods:
SortField:
SortValue: null
Mosaic Operator: First
Default Compression Quality: 75
Default Resampling Method: Bilinear
Max Record Count: null
Max Image Height: 4100
Max Image Width: 15000
Max Download Image Count: null
Max Mosaic Image Count: null
Allow Raster Function: true
Allow Copy: true
Allow Analysis: true
Allow Compute TiePoints: false
Supports Statistics: false
Supports Advanced Queries: false
Use StandardizedQueries: true
Raster Type Infos:
Name: Raster Dataset
Description: Supports all ArcGIS Raster Datasets
Help:
Has Raster Attribute Table: false
Edit Fields Info: null
Ownership Based AccessControl For Rasters: null
Child Resources:
Info
Histograms
Statistics
Key Properties
Legend
Raster Function Infos
Supported Operations:
Export Image
Identify
Measure
Compute Histograms
Compute Statistics Histograms
Get Samples
Compute Class Statistics
Query Boundary
Compute Pixel Location
Compute Angles
Validate
Project