View In:
ArcGIS JavaScript
ArcGIS Online Map Viewer
ArcGIS Earth
Service Description: Hosted/M_Gv_2
Name: Hosted/M_Gv_2
Description:
Single Fused Map Cache: false
Extent:
XMin: 207164.05788219866
YMin: 9073258.807121407
XMax: 231395.77180278307
YMax: 9108633.389503792
Spatial Reference: 31985
(31985)
Initial Extent:
XMin: 207164.05788219866
YMin: 9073258.807121407
XMax: 231395.77180278307
YMax: 9108633.389503792
Spatial Reference: 31985
(31985)
Full Extent:
XMin: 207164.05788219866
YMin: 9073258.807121407
XMax: 231395.77180278307
YMax: 9108633.389503792
Spatial Reference: 31985
(31985)
Pixel Size X: 0.4999940970737953
Pixel Size Y: 0.4999940972775221
Band Count: 3
Pixel Type: U8
RasterFunction Infos: {"rasterFunctionInfos": [{
"name": "None",
"description": "",
"help": ""
}]}
Mensuration Capabilities: Basic
Inspection Capabilities:
Has Histograms: true
Has Colormap: false
Has Multi Dimensions : false
Rendering Rule:
Min Scale: 0
Max Scale: 0
Copyright Text:
Service Data Type: esriImageServiceDataTypeRGB
Min Values: 1, 1, 18
Max Values: 255, 255, 255
Mean Values: 105.47073781108, 113.09235227329, 107.03325410567
Standard Deviation Values: 41.982853765065, 35.050972786003, 26.590127739207
Object ID Field:
Fields:
None
Default Mosaic Method: Center
Allowed Mosaic Methods:
SortField:
SortValue: null
Mosaic Operator: First
Default Compression Quality: 75
Default Resampling Method: Bilinear
Max Record Count: null
Max Image Height: 4100
Max Image Width: 15000
Max Download Image Count: null
Max Mosaic Image Count: null
Allow Raster Function: true
Allow Copy: true
Allow Analysis: true
Allow Compute TiePoints: false
Supports Statistics: false
Supports Advanced Queries: false
Use StandardizedQueries: true
Raster Type Infos:
Name: Raster Dataset
Description: Supports all ArcGIS Raster Datasets
Help:
Has Raster Attribute Table: false
Edit Fields Info: null
Ownership Based AccessControl For Rasters: null
Child Resources:
Info
Histograms
Statistics
Key Properties
Legend
Raster Function Infos
Supported Operations:
Export Image
Identify
Measure
Compute Histograms
Compute Statistics Histograms
Get Samples
Compute Class Statistics
Query Boundary
Compute Pixel Location
Compute Angles
Validate
Project